View In:
ArcGIS JavaScript
ArcGIS Online Map Viewer
ArcGIS Earth
ArcGIS Pro
Service Description: Basemap of Ulster County Tax Parcels, Streets, Hydrography and Recreational Space
Map Name: Basemap_Tax_Map
Legend
All Layers and Tables
Dynamic Legend
Dynamic All Layers
Layers:
-
NYS Thruway Exit (0)
-
Place Locations (1)
-
Ulster County Boundary (4)
-
Transportation (5)
-
1:1,128 (6)
-
1:2,257 (15)
-
1:4,514 (24)
-
1:9,028 (33)
-
1:18,056 (42)
-
1:36,112 (50)
-
1:72,224 (58)
-
1:144,448 (65)
-
1:288,895 (75)
-
1:577,791 (84)
-
Water - Mapbox Styling (89)
-
Tax Parcels (106)
-
Lands (107)
-
Base Coloring (114)
-
Hillshade (121)
-
Clip (125)
Description: Basemap of Ulster County Tax Parcels, Streets, Hydrography and Recreational Space
Service Item Id: fef703ad281040ef8c9acf35b5eae79d
Copyright Text:
Spatial Reference:
102100
(3857)
LatestVCSWkid(0)
Single Fused Map Cache: true
Tile Info:
- Height: 256.0
- Width: 256.0
- DPI: 96.0
-
Levels of Detail: 24
-
Level ID: 1
[ Start Tile, End Tile ]
- Resolution: 78271.5169639999
- Scale: 2.95828763795777E8
-
Level ID: 2
[ Start Tile, End Tile ]
- Resolution: 39135.7584820001
- Scale: 1.47914381897889E8
-
Level ID: 3
[ Start Tile, End Tile ]
- Resolution: 19567.8792409999
- Scale: 7.3957190948944E7
-
Level ID: 4
[ Start Tile, End Tile ]
- Resolution: 9783.93962049996
- Scale: 3.6978595474472E7
-
Level ID: 5
[ Start Tile, End Tile ]
- Resolution: 4891.96981024998
- Scale: 1.8489297737236E7
- Format: JPEG
- Compression Quality: 80.0
- Origin: X: -2.0037508342787E7
Y: 2.0037508342787E7
- Spatial Reference: 102100
(3857)
LatestVCSWkid(0)
Storage Info:
- Storage Format: esriMapCacheStorageModeCompactV2
- Packet Size: 128
Initial Extent:
XMin: -8320499.195728018
YMin: 5096007.712535726
XMax: -8219143.696221835
YMax: 5193388.486571077
Spatial Reference: 102100
(3857)
LatestVCSWkid(0)
Full Extent:
XMin: -8461716.01527697
YMin: 4988192.136553913
XMax: -8063631.9719679635
YMax: 5297914.975165297
Spatial Reference: 102100
(3857)
LatestVCSWkid(0)
Units: esriMeters
Supported Image Format Types: PNG32,PNG24,PNG,JPG,DIB,TIFF,EMF,PS,PDF,GIF,SVG,SVGZ,BMP
Document Info:
Title: Parcel Viewer.aprx
Author:
Comments: Basemap of Ulster County Tax Parcels, Streets, Hydrography and Recreational Space
Subject: Basemap of Ulster County Tax Parcels, Streets, Hydrography and Recreational Space
Category:
Keywords: Ulster County,Tax Parcels,Streets,Hydrography and Recreational Space
AntialiasingMode: Fast
TextAntialiasingMode: Force
Supports Dynamic Layers: true
MaxRecordCount: 2000
MaxSelectionCount: 2000
MaxImageHeight: 4096
MaxImageWidth: 4096
Supported Query Formats: JSON, geoJSON, PBF
Supports Query Data Elements: true
Min Scale: 2311162.217155
Max Scale: 1128.497176
Min LOD: 8
Max LOD: 19
Supports Datum Transformation: true
Child Resources:
Info
Dynamic Layer
Supported Operations:
Export Map
QueryLegends
QueryDomains
Find
Return Updates