View In:
ArcGIS JavaScript
ArcGIS Online Map Viewer
ArcGIS Earth
ArcGIS Pro
Service Description: <DIV STYLE="text-align:Left;"><DIV><DIV><P STYLE="margin:0 0 8 6;"><SPAN STYLE="font-size:12pt">High-resolution land cover dataset for the States of Delaware, Maryland, New Jersey, New York, and Pennsylvania. Twelve land cover classes were mapped: (0) Background, (1) Water, (2) Emergent Wetlands, (3) Tree Canopy, (4) Scrub/Shrub, (5) Low Vegetation, (6) Barren, (7) Structures, (8) Other Impervious Surfaces, (9) Roads, (10) Tree Canopy over Structures, (11) Tree Canopy over Other Impervious Surfaces, (12) Tree Canopy over Roads. The complete class definitions and standards can be viewed here: http://goo.gl/THacgg The primary sources used to derive this land-cover layer were: Delaware: 2014 leaf-off LiDAR data, 2012 leaf-off imagery, and 2013 leaf-on imagery; Maryland: 2013 Leaf-On NAIP, 2011-2015 Leaf Off Lidar (.46 - 1.4m resolution), and 2013-2014 Orthoimagery; New Jersey: 2013 Leaf-On NAIP (1m resolution), 2015 Leaf Off Lidar (1m resolution) and 2015 Orthoimagery (1ft resolution); New York: 2013 Leaf-On NAIP (1m resolution), 2015 Leaf Off Lidar (1m resolution) and 2015 Orthoimagery (1ft resolution); Pennsylvania: 2006-2008 leaf-off LiDAR data, 2005-2008 leaf-off orthoimagery, and 2013 leaf-on orthoimagery. Ancillary data sources such as road centerlines and hydrology were used to augment the land-cover mapping. This land-cover dataset is considered current based on data of acquisition for the leaf-on orthoimagery. Land-cover class assignment was accomplished using a rule-based expert system embedded within an object-based framework. Object-based image analysis techniques (OBIA) work by grouping pixels into meaningful objects based on their spectral and spatial properties, while taking into account boundaries imposed by existing vector datasets. Within the OBIA environment a rule-based expert system was designed to effectively mimic the process of manual image analysis by incorporating the elements of image interpretation (color/tone, texture, pattern, location, size, and shape) into the classification process. A series of morphological procedures were employed to insure that the end product is both accurate and cartographically pleasing. Following the automated OBIA mapping a detailed manual review of the dataset was carried out at a scale of 1:3000 and all observable errors were corrected. This dataset was developed to support land-cover mapping and modeling initiatives in the Delaware River Basin. At the time of its publication, it represented the most accurate and detailed land cover map for the Delaware, Maryland, New Jersey, New York, and Pennsylvania portion of the Delaware River Basin.</SPAN></P><P /><P><SPAN /></P></DIV></DIV></DIV>
Map Name: Hudson River
Legend
All Layers and Tables
Dynamic Legend
Dynamic All Layers
Layers:
Description: <DIV STYLE="text-align:Left;"><DIV><DIV><P STYLE="margin:0 0 8 6;"><SPAN STYLE="font-size:12pt">High-resolution land cover dataset for the States of Delaware, Maryland, New Jersey, New York, and Pennsylvania. Twelve land cover classes were mapped: (0) Background, (1) Water, (2) Emergent Wetlands, (3) Tree Canopy, (4) Scrub/Shrub, (5) Low Vegetation, (6) Barren, (7) Structures, (8) Other Impervious Surfaces, (9) Roads, (10) Tree Canopy over Structures, (11) Tree Canopy over Other Impervious Surfaces, (12) Tree Canopy over Roads. The complete class definitions and standards can be viewed here: http://goo.gl/THacgg The primary sources used to derive this land-cover layer were: Delaware: 2014 leaf-off LiDAR data, 2012 leaf-off imagery, and 2013 leaf-on imagery; Maryland: 2013 Leaf-On NAIP, 2011-2015 Leaf Off Lidar (.46 - 1.4m resolution), and 2013-2014 Orthoimagery; New Jersey: 2013 Leaf-On NAIP (1m resolution), 2015 Leaf Off Lidar (1m resolution) and 2015 Orthoimagery (1ft resolution); New York: 2013 Leaf-On NAIP (1m resolution), 2015 Leaf Off Lidar (1m resolution) and 2015 Orthoimagery (1ft resolution); Pennsylvania: 2006-2008 leaf-off LiDAR data, 2005-2008 leaf-off orthoimagery, and 2013 leaf-on orthoimagery. Ancillary data sources such as road centerlines and hydrology were used to augment the land-cover mapping. This land-cover dataset is considered current based on data of acquisition for the leaf-on orthoimagery. Land-cover class assignment was accomplished using a rule-based expert system embedded within an object-based framework. Object-based image analysis techniques (OBIA) work by grouping pixels into meaningful objects based on their spectral and spatial properties, while taking into account boundaries imposed by existing vector datasets. Within the OBIA environment a rule-based expert system was designed to effectively mimic the process of manual image analysis by incorporating the elements of image interpretation (color/tone, texture, pattern, location, size, and shape) into the classification process. A series of morphological procedures were employed to insure that the end product is both accurate and cartographically pleasing. Following the automated OBIA mapping a detailed manual review of the dataset was carried out at a scale of 1:3000 and all observable errors were corrected. This dataset was developed to support land-cover mapping and modeling initiatives in the Delaware River Basin. At the time of its publication, it represented the most accurate and detailed land cover map for the Delaware, Maryland, New Jersey, New York, and Pennsylvania portion of the Delaware River Basin.</SPAN></P><P /><P><SPAN /></P></DIV></DIV></DIV>
Service Item Id: 6b1eff18f755433fbd4793509876344b
Copyright Text: This land-cover dataset was developed by the University of Vermont Spatial Analysis Laboratory. The original development of the algorithms used for this project was done in collaboration with the United States Forest Service. Funding was provided by the William Penn Foundation under a collaborative grant with Shippensburg University.
Spatial Reference:
102100
(3857)
LatestVCSWkid(0)
Single Fused Map Cache: true
Tile Info:
- Height: 256.0
- Width: 256.0
- DPI: 96.0
-
Levels of Detail: 24
-
Level ID: 1
[ Start Tile, End Tile ]
- Resolution: 78271.5169639999
- Scale: 2.95828763795777E8
-
Level ID: 2
[ Start Tile, End Tile ]
- Resolution: 39135.7584820001
- Scale: 1.47914381897889E8
-
Level ID: 3
[ Start Tile, End Tile ]
- Resolution: 19567.8792409999
- Scale: 7.3957190948944E7
-
Level ID: 4
[ Start Tile, End Tile ]
- Resolution: 9783.93962049996
- Scale: 3.6978595474472E7
-
Level ID: 5
[ Start Tile, End Tile ]
- Resolution: 4891.96981024998
- Scale: 1.8489297737236E7
- Format: JPEG
- Compression Quality: 80.0
- Origin: X: -2.0037508342787E7
Y: 2.0037508342787E7
- Spatial Reference: 102100
(3857)
LatestVCSWkid(0)
Storage Info:
- Storage Format: esriMapCacheStorageModeCompactV2
- Packet Size: 128
Initial Extent:
XMin: -8366844.551310148
YMin: 5081805.259053674
XMax: -8187899.551567148
YMax: 5204207.874262495
Spatial Reference: 102100
(0)
LatestVCSWkid(0)
Full Extent:
XMin: -8325651.796801303
YMin: 5085435.052044229
XMax: -8226255.99243188
YMax: 5189658.934553932
Spatial Reference: 102100
(0)
LatestVCSWkid(0)
Units: esriMeters
Supported Image Format Types: PNG32,PNG24,PNG,JPG,DIB,TIFF,EMF,PS,PDF,GIF,SVG,SVGZ,BMP
Document Info:
Title: C:\projects\General Mapping\General Mapping.aprx
Author:
Comments:
Subject:
Category:
Keywords: inlandWaters,Delaware,Maryland,New York,New Jersery,Pennsylvania,environment,structure,Delaware River Basin,transportation,Land Cover
AntialiasingMode: Fast
TextAntialiasingMode: Force
Supports Dynamic Layers: true
MaxRecordCount: 2000
MaxSelectionCount: 2000
MaxImageHeight: 4096
MaxImageWidth: 4096
Supported Query Formats: JSON, geoJSON, PBF
Supports Query Data Elements: true
Min Scale: 1155581.108577
Max Scale: 1128.497176
Min LOD: 9
Max LOD: 19
Supports Datum Transformation: true
Child Resources:
Info
Dynamic Layer
Supported Operations:
Export Map
Identify
QueryLegends
QueryDomains
Find
Return Updates