{ "currentVersion": 11.5, "cimVersion": "3.5.0", "serviceDescription": "
High-resolution land cover dataset for the States of Delaware, Maryland, New Jersey, New York, and Pennsylvania. Twelve land cover classes were mapped: (0) Background, (1) Water, (2) Emergent Wetlands, (3) Tree Canopy, (4) Scrub/Shrub, (5) Low Vegetation, (6) Barren, (7) Structures, (8) Other Impervious Surfaces, (9) Roads, (10) Tree Canopy over Structures, (11) Tree Canopy over Other Impervious Surfaces, (12) Tree Canopy over Roads. The complete class definitions and standards can be viewed here: http://goo.gl/THacgg The primary sources used to derive this land-cover layer were: Delaware: 2014 leaf-off LiDAR data, 2012 leaf-off imagery, and 2013 leaf-on imagery; Maryland: 2013 Leaf-On NAIP, 2011-2015 Leaf Off Lidar (.46 - 1.4m resolution), and 2013-2014 Orthoimagery; New Jersey: 2013 Leaf-On NAIP (1m resolution), 2015 Leaf Off Lidar (1m resolution) and 2015 Orthoimagery (1ft resolution); New York: 2013 Leaf-On NAIP (1m resolution), 2015 Leaf Off Lidar (1m resolution) and 2015 Orthoimagery (1ft resolution); Pennsylvania: 2006-2008 leaf-off LiDAR data, 2005-2008 leaf-off orthoimagery, and 2013 leaf-on orthoimagery. Ancillary data sources such as road centerlines and hydrology were used to augment the land-cover mapping. This land-cover dataset is considered current based on data of acquisition for the leaf-on orthoimagery. Land-cover class assignment was accomplished using a rule-based expert system embedded within an object-based framework. Object-based image analysis techniques (OBIA) work by grouping pixels into meaningful objects based on their spectral and spatial properties, while taking into account boundaries imposed by existing vector datasets. Within the OBIA environment a rule-based expert system was designed to effectively mimic the process of manual image analysis by incorporating the elements of image interpretation (color/tone, texture, pattern, location, size, and shape) into the classification process. A series of morphological procedures were employed to insure that the end product is both accurate and cartographically pleasing. Following the automated OBIA mapping a detailed manual review of the dataset was carried out at a scale of 1:3000 and all observable errors were corrected. This dataset was developed to support land-cover mapping and modeling initiatives in the Delaware River Basin. At the time of its publication, it represented the most accurate and detailed land cover map for the Delaware, Maryland, New Jersey, New York, and Pennsylvania portion of the Delaware River Basin.<\/SPAN><\/P> <\/P><\/DIV><\/DIV><\/DIV>",
"mapName": "Hudson River",
"description": " High-resolution land cover dataset for the States of Delaware, Maryland, New Jersey, New York, and Pennsylvania. Twelve land cover classes were mapped: (0) Background, (1) Water, (2) Emergent Wetlands, (3) Tree Canopy, (4) Scrub/Shrub, (5) Low Vegetation, (6) Barren, (7) Structures, (8) Other Impervious Surfaces, (9) Roads, (10) Tree Canopy over Structures, (11) Tree Canopy over Other Impervious Surfaces, (12) Tree Canopy over Roads. The complete class definitions and standards can be viewed here: http://goo.gl/THacgg The primary sources used to derive this land-cover layer were: Delaware: 2014 leaf-off LiDAR data, 2012 leaf-off imagery, and 2013 leaf-on imagery; Maryland: 2013 Leaf-On NAIP, 2011-2015 Leaf Off Lidar (.46 - 1.4m resolution), and 2013-2014 Orthoimagery; New Jersey: 2013 Leaf-On NAIP (1m resolution), 2015 Leaf Off Lidar (1m resolution) and 2015 Orthoimagery (1ft resolution); New York: 2013 Leaf-On NAIP (1m resolution), 2015 Leaf Off Lidar (1m resolution) and 2015 Orthoimagery (1ft resolution); Pennsylvania: 2006-2008 leaf-off LiDAR data, 2005-2008 leaf-off orthoimagery, and 2013 leaf-on orthoimagery. Ancillary data sources such as road centerlines and hydrology were used to augment the land-cover mapping. This land-cover dataset is considered current based on data of acquisition for the leaf-on orthoimagery. Land-cover class assignment was accomplished using a rule-based expert system embedded within an object-based framework. Object-based image analysis techniques (OBIA) work by grouping pixels into meaningful objects based on their spectral and spatial properties, while taking into account boundaries imposed by existing vector datasets. Within the OBIA environment a rule-based expert system was designed to effectively mimic the process of manual image analysis by incorporating the elements of image interpretation (color/tone, texture, pattern, location, size, and shape) into the classification process. A series of morphological procedures were employed to insure that the end product is both accurate and cartographically pleasing. Following the automated OBIA mapping a detailed manual review of the dataset was carried out at a scale of 1:3000 and all observable errors were corrected. This dataset was developed to support land-cover mapping and modeling initiatives in the Delaware River Basin. At the time of its publication, it represented the most accurate and detailed land cover map for the Delaware, Maryland, New Jersey, New York, and Pennsylvania portion of the Delaware River Basin.<\/SPAN><\/P> <\/P><\/DIV><\/DIV><\/DIV>",
"copyrightText": "This land-cover dataset was developed by the University of Vermont Spatial Analysis Laboratory. The original development of the algorithms used for this project was done in collaboration with the United States Forest Service. Funding was provided by the William Penn Foundation under a collaborative grant with Shippensburg University.",
"supportsDynamicLayers": true,
"layers": [
{
"id": 0,
"name": "Land Cover 1m DRB",
"parentLayerId": -1,
"defaultVisibility": true,
"subLayerIds": null,
"minScale": 0,
"maxScale": 0,
"type": "Raster Layer",
"supportsDynamicLegends": true
}
],
"tables": [],
"spatialReference": {
"wkid": 102100,
"latestWkid": 3857,
"xyTolerance": 0.001,
"zTolerance": 0.001,
"mTolerance": 0.001,
"falseX": -20037700,
"falseY": -30241100,
"xyUnits": 10000,
"falseZ": -100000,
"zUnits": 10000,
"falseM": -100000,
"mUnits": 10000
},
"singleFusedMapCache": true,
"tileInfo": {
"rows": 256,
"cols": 256,
"dpi": 96,
"format": "JPEG",
"compressionQuality": 80,
"origin": {
"x": -2.0037508342787E7,
"y": 2.0037508342787E7
},
"spatialReference": {
"wkid": 102100,
"latestWkid": 3857,
"xyTolerance": 0.001,
"zTolerance": 0.001,
"mTolerance": 0.001,
"falseX": -20037700,
"falseY": -30241100,
"xyUnits": 1.4892314192838538E8,
"falseZ": -100000,
"zUnits": 10000,
"falseM": -100000,
"mUnits": 10000
},
"lods": [
{
"level": 0,
"resolution": 156543.033928,
"scale": 5.91657527591555E8
},
{
"level": 1,
"resolution": 78271.5169639999,
"scale": 2.95828763795777E8
},
{
"level": 2,
"resolution": 39135.7584820001,
"scale": 1.47914381897889E8
},
{
"level": 3,
"resolution": 19567.8792409999,
"scale": 7.3957190948944E7
},
{
"level": 4,
"resolution": 9783.93962049996,
"scale": 3.6978595474472E7
},
{
"level": 5,
"resolution": 4891.96981024998,
"scale": 1.8489297737236E7
},
{
"level": 6,
"resolution": 2445.98490512499,
"scale": 9244648.868618
},
{
"level": 7,
"resolution": 1222.99245256249,
"scale": 4622324.434309
},
{
"level": 8,
"resolution": 611.49622628138,
"scale": 2311162.217155
},
{
"level": 9,
"resolution": 305.748113140558,
"scale": 1155581.108577
},
{
"level": 10,
"resolution": 152.874056570411,
"scale": 577790.554289
},
{
"level": 11,
"resolution": 76.4370282850732,
"scale": 288895.277144
},
{
"level": 12,
"resolution": 38.2185141425366,
"scale": 144447.638572
},
{
"level": 13,
"resolution": 19.1092570712683,
"scale": 72223.819286
},
{
"level": 14,
"resolution": 9.55462853563415,
"scale": 36111.909643
},
{
"level": 15,
"resolution": 4.77731426794937,
"scale": 18055.954822
},
{
"level": 16,
"resolution": 2.38865713397468,
"scale": 9027.977411
},
{
"level": 17,
"resolution": 1.19432856685505,
"scale": 4513.988705
},
{
"level": 18,
"resolution": 0.597164283559817,
"scale": 2256.994353
},
{
"level": 19,
"resolution": 0.298582141647617,
"scale": 1128.497176
},
{
"level": 20,
"resolution": 0.14929107082380833,
"scale": 564.248588
},
{
"level": 21,
"resolution": 0.07464553541190416,
"scale": 282.124294
},
{
"level": 22,
"resolution": 0.03732276770595208,
"scale": 141.062147
},
{
"level": 23,
"resolution": 0.01866138385297604,
"scale": 70.5310735
}
]
},
"storageInfo": {
"storageFormat": "esriMapCacheStorageModeCompactV2",
"packetSize": 128
},
"initialExtent": {
"xmin": -8366844.551310148,
"ymin": 5081805.259053674,
"xmax": -8187899.551567148,
"ymax": 5204207.874262495,
"spatialReference": {
"cs": "pcs",
"wkid": 102100
}
},
"fullExtent": {
"xmin": -8325651.796801303,
"ymin": 5085435.052044229,
"xmax": -8226255.99243188,
"ymax": 5189658.934553932,
"spatialReference": {
"cs": "pcs",
"wkid": 102100
}
},
"datesInUnknownTimezone": false,
"minScale": 1155581.108577,
"maxScale": 1128.497176,
"minLOD": 9,
"maxLOD": 19,
"units": "esriMeters",
"supportedImageFormatTypes": "PNG32,PNG24,PNG,JPG,DIB,TIFF,EMF,PS,PDF,GIF,SVG,SVGZ,BMP",
"documentInfo": {
"Title": "C:\\projects\\General Mapping\\General Mapping.aprx",
"Author": "",
"Comments": "",
"Subject": "",
"Category": "",
"Version": "3.1.0",
"AntialiasingMode": "Fast",
"TextAntialiasingMode": "Force",
"Keywords": "inlandWaters,Delaware,Maryland,New York,New Jersery,Pennsylvania,environment,structure,Delaware River Basin,transportation,Land Cover"
},
"supportsQueryDomains": true,
"capabilities": "Query,Map,Data",
"supportedQueryFormats": "JSON, geoJSON, PBF",
"exportTilesAllowed": false,
"referenceScale": 0.0,
"datumTransformations": [
{
"geoTransforms": [
{
"wkid": 108190,
"latestWkid": 108190,
"transformForward": false,
"name": "WGS_1984_(ITRF00)_To_NAD_1983"
}
]
},
{
"geoTransforms": [
{
"wkid": 108190,
"latestWkid": 108190,
"transformForward": true,
"name": "WGS_1984_(ITRF00)_To_NAD_1983"
}
]
}
],
"supportsDatumTransformation": true,
"floorAwareMapProperties": {
"defaultFloorFilterSettings": {"isEnabled": false}
},
"archivingInfo": {"supportsHistoricMoment": false},
"supportsClipping": true,
"supportsSpatialFilter": true,
"supportsTimeRelation": true,
"supportsQueryDataElements": true,
"mapUnits": {"uwkid": 9001},
"maxSelectionCount": 2000,
"maxRecordCount": 2000,
"maxImageHeight": 4096,
"maxImageWidth": 4096,
"supportedExtensions": "",
"serviceItemId": "6b1eff18f755433fbd4793509876344b"
}